BEGIN:VCALENDAR
VERSION:2.0
PRODID:-//IE FUNDERS ALLIANCE - ECPv6.15.20//NONSGML v1.0//EN
CALSCALE:GREGORIAN
METHOD:PUBLISH
X-WR-CALNAME:IE FUNDERS ALLIANCE
X-ORIGINAL-URL:https://www.iefunders.org
X-WR-CALDESC:Events for IE FUNDERS ALLIANCE
REFRESH-INTERVAL;VALUE=DURATION:PT1H
X-Robots-Tag:noindex
X-PUBLISHED-TTL:PT1H
BEGIN:VTIMEZONE
TZID:America/Los_Angeles
BEGIN:DAYLIGHT
TZOFFSETFROM:-0800
TZOFFSETTO:-0700
TZNAME:PDT
DTSTART:20250309T100000
END:DAYLIGHT
BEGIN:STANDARD
TZOFFSETFROM:-0700
TZOFFSETTO:-0800
TZNAME:PST
DTSTART:20251102T090000
END:STANDARD
BEGIN:DAYLIGHT
TZOFFSETFROM:-0800
TZOFFSETTO:-0700
TZNAME:PDT
DTSTART:20260308T100000
END:DAYLIGHT
BEGIN:STANDARD
TZOFFSETFROM:-0700
TZOFFSETTO:-0800
TZNAME:PST
DTSTART:20261101T090000
END:STANDARD
BEGIN:DAYLIGHT
TZOFFSETFROM:-0800
TZOFFSETTO:-0700
TZNAME:PDT
DTSTART:20270314T100000
END:DAYLIGHT
BEGIN:STANDARD
TZOFFSETFROM:-0700
TZOFFSETTO:-0800
TZNAME:PST
DTSTART:20271107T090000
END:STANDARD
END:VTIMEZONE
BEGIN:VEVENT
DTSTART;TZID=America/Los_Angeles:20260610T100000
DTEND;TZID=America/Los_Angeles:20260610T120000
DTSTAMP:20260421T103852
CREATED:20250807T221526Z
LAST-MODIFIED:20250807T231630Z
UID:2247-1781085600-1781092800@www.iefunders.org
SUMMARY:June Member Meeting
DESCRIPTION:IEFA’s June 2026 bimonthly member meeting will be Wednesday\, June 10th from 10am-12pm\, with an optional informal lunch to follow. \nAs a “Learning Meeting\,” this discussion will be offered in a hybrid format\, both in-person and on Zoom. Details to come. \nPlease RSVP below to save your spot!
URL:https://www.iefunders.org/event/june-member-meeting-2026/
LOCATION:TBD
CATEGORIES:Bimonthly Member Meeting,Learning Meeting
ORGANIZER;CN="Inland Empire Funders Alliance":MAILTO:info@iefunders.org
END:VEVENT
END:VCALENDAR