BEGIN:VCALENDAR
VERSION:2.0
PRODID:-//IE FUNDERS ALLIANCE - ECPv6.15.20//NONSGML v1.0//EN
CALSCALE:GREGORIAN
METHOD:PUBLISH
X-WR-CALNAME:IE FUNDERS ALLIANCE
X-ORIGINAL-URL:https://www.iefunders.org
X-WR-CALDESC:Events for IE FUNDERS ALLIANCE
REFRESH-INTERVAL;VALUE=DURATION:PT1H
X-Robots-Tag:noindex
X-PUBLISHED-TTL:PT1H
BEGIN:VTIMEZONE
TZID:America/Los_Angeles
BEGIN:DAYLIGHT
TZOFFSETFROM:-0800
TZOFFSETTO:-0700
TZNAME:PDT
DTSTART:20210314T100000
END:DAYLIGHT
BEGIN:STANDARD
TZOFFSETFROM:-0700
TZOFFSETTO:-0800
TZNAME:PST
DTSTART:20211107T090000
END:STANDARD
BEGIN:DAYLIGHT
TZOFFSETFROM:-0800
TZOFFSETTO:-0700
TZNAME:PDT
DTSTART:20220313T100000
END:DAYLIGHT
BEGIN:STANDARD
TZOFFSETFROM:-0700
TZOFFSETTO:-0800
TZNAME:PST
DTSTART:20221106T090000
END:STANDARD
BEGIN:DAYLIGHT
TZOFFSETFROM:-0800
TZOFFSETTO:-0700
TZNAME:PDT
DTSTART:20230312T100000
END:DAYLIGHT
BEGIN:STANDARD
TZOFFSETFROM:-0700
TZOFFSETTO:-0800
TZNAME:PST
DTSTART:20231105T090000
END:STANDARD
BEGIN:DAYLIGHT
TZOFFSETFROM:-0800
TZOFFSETTO:-0700
TZNAME:PDT
DTSTART:20240310T100000
END:DAYLIGHT
BEGIN:STANDARD
TZOFFSETFROM:-0700
TZOFFSETTO:-0800
TZNAME:PST
DTSTART:20241103T090000
END:STANDARD
BEGIN:DAYLIGHT
TZOFFSETFROM:-0800
TZOFFSETTO:-0700
TZNAME:PDT
DTSTART:20250309T100000
END:DAYLIGHT
BEGIN:STANDARD
TZOFFSETFROM:-0700
TZOFFSETTO:-0800
TZNAME:PST
DTSTART:20251102T090000
END:STANDARD
END:VTIMEZONE
BEGIN:VEVENT
DTSTART;TZID=America/Los_Angeles:20240612T100000
DTEND;TZID=America/Los_Angeles:20240612T130000
DTSTAMP:20260419T064330
CREATED:20230918T221938Z
LAST-MODIFIED:20231222T034452Z
UID:1997-1718186400-1718197200@www.iefunders.org
SUMMARY:June 2024 Member Meeting (Learning Meeting; hybrid in-person/Zoom)
DESCRIPTION:The IE Funders Alliance holds bimonthly general meetings available for all staff and board members of IEFA member institutions. \nThis meeting will be a “Learning Meeting” emphasizing a topical discussion of current issues and initiatives in the region. Learning meetings are offered in a hybrid format\, both in-person and on Zoom. \nPlease save the date; more details will follow when available. \nIf you are interested in attending\, fill out the form below to RSVP for this and our other 2024 member events. \n\n 
URL:https://www.iefunders.org/event/june-2024-member-meeting/
CATEGORIES:Learning Meeting
END:VEVENT
BEGIN:VEVENT
DTSTART;VALUE=DATE:20240411
DTEND;VALUE=DATE:20240413
DTSTAMP:20260419T064330
CREATED:20230918T221528Z
LAST-MODIFIED:20240313T231708Z
UID:1994-1712793600-1712966399@www.iefunders.org
SUMMARY:Partnering for Equity: San Bernardino — Reimagining Education and Justice: Restorative\, Redemptive\, Responsive Community-Driven Solutions
DESCRIPTION:Reimagining Education and Justice: Restorative\, Redemptive\, Responsive Community-Driven Solutions\n\n					The Inland Empire Funders Alliance is excited to announce Partnering for Equity: San Bernardino County\, a two-part series of 2-day immersive co-learning experiences for grantmakers and leaders in the philanthropic\, corporate\, and public sectors to accurately understand the operating conditions and real stories on the ground in disinvested and marginalized communities — and the opportunities to partner for impact through increased strategic investment and action. \nThese events will highlight critical issues facing San Bernardino County\, its varied sub-regions\, and the entire Inland Empire by engaging funders in an immersive co-learning experience with community leaders and fellow funders. Topics to be addressed include: \n\nApril 11-12: Education Justice and Justice Reinvestment\, focusing on the West End and High Desert communities.\nJune 26-27: Inclusive Community Development and Health Systems in Indigenous Communities\, focusing on the City of San Bernardino and the Morongo Basin\n\nSouthern California’s Inland Empire (San Bernardino and Riverside counties) is one of the fastest-growing population centers in the United States. Located 40 miles east of Los Angeles\, the IE is rich in diversity\, culture\, history and economic opportunity. It is also home to innovative\, resourceful\, mission-driven nonprofit organizations working in partnership to transform lives\, communities and the region as a whole. San Bernardino County is home to a dynamic and growing population of 2.2 million people\, serving as a microcosm and a bellwether for the future of California. \nOver the course of each two-day overnight learning visit\, you will have the opportunity to: \n\nFoster meaningful relationships with community groups\, leaders\, cultural workers\, and experts who are advocating about these topics.\nLearn about your peers’ funding priorities and activities\, enabling them to better coordinate their grantmaking for deeper and broader impact.\nDeepen your understanding of your role as a funder in partnership with community\, building trust and empathy to shift power relationships and activate more equitable philanthropic practices.\nReduce the burden on community partners by providing a coordinated learning experience for funders.\n\n				\n\n					Register for the April 11-12 session:\nRegister Now \n  \n				 \n 
URL:https://www.iefunders.org/event/partnering-for-equity-san-bernardino-session-1/
CATEGORIES:Partnering for Equity: San Bernardino Learning Series
ATTACH;FMTTYPE=image/png:https://www.iefunders.org/wp-content/uploads/2023/09/Partnering-for-Equity-Header-April.png
ORGANIZER;CN="Inland Empire Funders Alliance":MAILTO:info@iefunders.org
END:VEVENT
BEGIN:VEVENT
DTSTART;TZID=America/Los_Angeles:20240410T100000
DTEND;TZID=America/Los_Angeles:20240410T120000
DTSTAMP:20260419T064330
CREATED:20230918T221745Z
LAST-MODIFIED:20240221T223007Z
UID:1995-1712743200-1712750400@www.iefunders.org
SUMMARY:April 2024 Member Meeting (Connecting Meeting; in-person only)
DESCRIPTION:The IE Funders Alliance holds bimonthly general meetings available for all staff and board members of IEFA member institutions. \nThis meeting will be a “Connecting Meeting” emphasizing peer learning\, relationship building\, and co-learning. To foster quality conversations\, connecting meetings are offered in-person only; no Zoom option will be available. \nPlease save the date; more details will follow when available. \nIf you are interested in attending\, fill out the form below to RSVP for this and our other 2024 member events.
URL:https://www.iefunders.org/event/april-2024-member-meeting/
LOCATION:San Bernardino County Museum\, 2024 Orange Tree Ln\, Redlands\, CA\, 92374\, United States
CATEGORIES:Bimonthly Member Meeting,Connecting Meeting
ATTACH;FMTTYPE=image/jpeg:https://www.iefunders.org/wp-content/uploads/2021/07/pooled-2.jpg
ORGANIZER;CN="Inland Empire Funders Alliance":MAILTO:info@iefunders.org
END:VEVENT
BEGIN:VEVENT
DTSTART;TZID=America/Los_Angeles:20240214T100000
DTEND;TZID=America/Los_Angeles:20240214T120000
DTSTAMP:20260419T064330
CREATED:20230916T055957Z
LAST-MODIFIED:20240212T192413Z
UID:1977-1707904800-1707912000@www.iefunders.org
SUMMARY:Member Meeting: Partnering to Build Civic Muscle in the Inland Empire (Learning Meeting; hybrid in-person/Zoom)
DESCRIPTION:This year more than ever\, the values and voice of Inland Empire residents will be on the ballot. \nThe IE is one of the fastest growing regions in the state. And yet with relatively low voter turnout\, both new and older residents’ voices are not fully represented in the halls of power — whether locally\, in Sacramento\, or nationally. \nWhat can funders do ensure that people in the region have access to the information\, resources\, and supportive structures to make informed decisions? Join us and a dynamic panel of speakers for an honest discussion of how funders can partner with nonprofits to support civic education and engagement — even those that have not traditionally funded civic engagement. \nPanel\n\nSarah Efthymiou (General Counsel for Bolder Advocacy at Alliance for Justice): Why foundations should — and can — support nonpartisan election-related activities\nEmily Michels (Policy Director at SoCal Grantmakers): How funders can engage in systems-level change\nJan Masaoka (Former CEO\, CalNonprofits): What really works — and doesn’t — when funders undertake civic education and engagement\nBrian Thomas Romo (Public Policy and Technology Manager\, Inland Empire Community Collaborative): The IE Children’s Cabinet: mobilizing system change through local nonprofit civic engagement\n\nModerated by Susan Gomez (President/CEO of the Inland Empire Community Collaborative & Advisory Board member\, IE Funders Alliance) \nWe invite you to join us in-person for IEFA’s first member meeting of 2024 on Wednesday\, February 14th (Valentine’s Day 💘!) at 10am-12pm. This Learning Meeting will be in a hybrid format\, hosted at the IECC offices in San Bernardino and on Zoom. Our member meetings are open to all staff and board members of IEFA member institutions. \nIf you are interested in attending\, fill out the form below to RSVP for this and our other 2024 member meetings.
URL:https://www.iefunders.org/event/february-2024-member-meeting/
LOCATION:Inland Empire Community Collaborative\, 1887 Business Center Dr S # 3\, San Bernardino\, CA\, 92408\, United States
CATEGORIES:Bimonthly Member Meeting,Learning Meeting
ATTACH;FMTTYPE=image/jpeg:https://www.iefunders.org/wp-content/uploads/2023/09/IECC-Photo.jpg
ORGANIZER;CN="Inland Empire Funders Alliance":MAILTO:info@iefunders.org
END:VEVENT
BEGIN:VEVENT
DTSTART;TZID=America/Los_Angeles:20231213T100000
DTEND;TZID=America/Los_Angeles:20231213T123000
DTSTAMP:20260419T064330
CREATED:20230918T221231Z
LAST-MODIFIED:20231211T223510Z
UID:1992-1702461600-1702470600@www.iefunders.org
SUMMARY:IE Funders Alliance — 2024 Horizons: Reflecting on Success and Charting Future Impact — Annual Year-End Member Meeting
DESCRIPTION:We invite you to join us in person for IEFA’s Annual Year-End Member Meeting on Wednesday\, December 13th at 10am-12pm! \nThis “connecting” meeting will be hosted at the IE Community Foundation offices in Riverside and prioritize opportunities for you to strengthen relationships with your funder peers and engage in thoughtful discussion. \nAs we look towards the horizon of the coming year\, there are many exciting opportunities for us to continue bolstering our work together in the IE. We are also well aware that a number of concerning uncertainties face us that will impact the region and our institutions’ responses. \nThis final convening of the year will provide a space for honest peer-to-peer conversations with fellow funders regarding the social\, political\, and philanthropic trends we see materializing ahead of us\, and what that means for the Inland Empire\, the region’s grantmaker community\, and IEFA itself. \nYour presence and contributions at his meeting will directly inform our goals for the next year. The meeting will include a preview of IEFA’s 2024 goals\, along with a look-back on our accomplishments and learnings from 2023. \nLunch will be provided during the final portion of the meeting — we sincerely hope you will choose to stay for the food and fellowship. To make it easier for you to do so\, the programmatic portion of this meeting will end slightly earlier than usual. \nRSVP to attend: \n\n\nIf you plan to join us\, be sure to click below to add the event to your calendar.
URL:https://www.iefunders.org/event/annual-year-end-member-meeting/
LOCATION:Inland Empire Community Foundation\, 3700 6th St Suite 200\, Riverside\, CA\, 92501\, United States
CATEGORIES:Connecting Meeting
ATTACH;FMTTYPE=image/jpeg:https://www.iefunders.org/wp-content/uploads/2023/09/Untitled-design.jpg
END:VEVENT
BEGIN:VEVENT
DTSTART;TZID=America/Los_Angeles:20231101T100000
DTEND;TZID=America/Los_Angeles:20231101T120000
DTSTAMP:20260419T064330
CREATED:20230916T055528Z
LAST-MODIFIED:20230916T055528Z
UID:1976-1698832800-1698840000@www.iefunders.org
SUMMARY:San Bernardino County Learning Series: Education Justice
DESCRIPTION:Theme/focus: Education Justice \nLocation: Upland: Youth Mentoring Action Network (YMAN) office
URL:https://www.iefunders.org/event/san-bernardino-county-learning-series-education-justice/
CATEGORIES:Partnering for Equity: San Bernardino Learning Series
END:VEVENT
BEGIN:VEVENT
DTSTART;TZID=America/Los_Angeles:20231011T100000
DTEND;TZID=America/Los_Angeles:20231011T133000
DTSTAMP:20260419T064330
CREATED:20230916T053747Z
LAST-MODIFIED:20230922T233514Z
UID:1970-1697018400-1697031000@www.iefunders.org
SUMMARY:Funding the Promise: Catalyzing Systemic Change through Funder Collaboration
DESCRIPTION:The IE Funders Alliance is committed to fostering collaborative grantmaking that brings aligned organizations together to strategically channel resources and create an impact far greater than the sum of their individual parts. This innovative event will be an opportunity to learn directly from your funder peers and their community partners about cross-cutting initiatives in the region that they are already implementing — and where your additional funding can amplify impact! By turning the traditional fast pitch model on its head\, it is our hope that this “Funder Pitch” will provide a bottom-up way of catalyzing small- or large-scale collaboration among funders. \nPlease note: Due to the special nature of this event\, it will extend beyond our usual meeting schedule\, with the program running through 1:30p.m. \nThe event will include light refreshments in the morning and lunch. \nTheme/focus: Funder Pitch \nLocation: Zoom/In-Person \nIn-Person: The meeting will be held at the new IEHP Center for Learning and Innovation\, located directly behind IEHP Headquarters. Details will be provided upon registrations. \nZoom Option: If you are unable to come in person\, you are also invited to join us via Zoom. The link will be provided upon registration. \nParking: There is ample free parking; please arrive 15-30 minutes early to clear security and join us for a light breakfast before the program starts. \nOptional lunch 12 – 1pm
URL:https://www.iefunders.org/event/funding-the-promise-catalyzing-systemic-change-through-funder-collaboration/
LOCATION:IEHP Foundation in Rancho Cucamonga
CATEGORIES:Bimonthly Member Meeting
ATTACH;FMTTYPE=image/png:https://www.iefunders.org/wp-content/uploads/2023/09/unnamed-1.png
END:VEVENT
BEGIN:VEVENT
DTSTART;TZID=America/Los_Angeles:20230809T100000
DTEND;TZID=America/Los_Angeles:20230809T120000
DTSTAMP:20260419T064330
CREATED:20230918T220805Z
LAST-MODIFIED:20230919T171342Z
UID:1991-1691575200-1691582400@www.iefunders.org
SUMMARY:Values-Aligned Co-Design: Bringing our Individual Purpose to our Collaborations
DESCRIPTION:Type: Bimonthly Member Meeting (Connecting Meeting) \nTheme/focus: Collaborative Grantmaking \nLocation: IECF Policy Forum \nPoint people organizing: Diana + Margarita \nModerator: Diana + Margarita \nMember Spotlight: N/A \nAttendance: 19 in person\, 4 online\, 23 total
URL:https://www.iefunders.org/event/values-aligned-co-design-bringing-our-individual-purpose-to-our-collaborations/
CATEGORIES:Connecting Meeting
END:VEVENT
BEGIN:VEVENT
DTSTART;TZID=America/Los_Angeles:20230614T100000
DTEND;TZID=America/Los_Angeles:20230614T130000
DTSTAMP:20260419T064330
CREATED:20230918T220708Z
LAST-MODIFIED:20230919T171332Z
UID:1990-1686736800-1686747600@www.iefunders.org
SUMMARY:Talking Trust-based: Creating spaces for honest conversations between funders and community nonprofits
DESCRIPTION:Type: Bimonthly Member Meeting (Learning Meeting) \nTheme/focus: Trust-based Philanthropy \nLocation: NICC Conference \nPoint people organizing: Diana + Margarita \nModerator: Diana + Margarita
URL:https://www.iefunders.org/event/talking-trust-based-creating-spaces-for-honest-conversations-between-funders-and-community-nonprofits/
CATEGORIES:Learning Meeting
END:VEVENT
BEGIN:VEVENT
DTSTART;TZID=America/Los_Angeles:20230412T100000
DTEND;TZID=America/Los_Angeles:20230412T130000
DTSTAMP:20260419T064330
CREATED:20230918T220247Z
LAST-MODIFIED:20230919T170006Z
UID:1989-1681293600-1681304400@www.iefunders.org
SUMMARY:How are we using the JEDI work as a way to build connections between funders?
DESCRIPTION:Type: Bimonthly Member Meeting (Connecting Meeting) \nTheme/focus: Connecting the dots on JEDI \nLocation: Civil Rights Institute\, Riverside \nPoint people organizing: Diana + Anita \nModerator: Anita
URL:https://www.iefunders.org/event/how-are-we-using-the-jedi-work-as-a-way-to-build-connections-between-funders/
CATEGORIES:Connecting Meeting
END:VEVENT
BEGIN:VEVENT
DTSTART;TZID=America/Los_Angeles:20230208T100000
DTEND;TZID=America/Los_Angeles:20230208T120000
DTSTAMP:20260419T064330
CREATED:20230918T220020Z
LAST-MODIFIED:20230919T165648Z
UID:1988-1675850400-1675857600@www.iefunders.org
SUMMARY:The What\, Who\, and How of Engaging with Public Sector Leaders
DESCRIPTION:Type: Bimonthly Member Meeting (Learning Meeting) \nTheme/focus: Engaging Public Sector Leaders \nLocation: ICUC in San Bernardino \nPoint people organizing: Margarita \nModerator: Lety \nGuests: Sky and Silvia \nAttendance: 10 people in person\, 13 online\, 23 total
URL:https://www.iefunders.org/event/the-what-who-and-how-of-engaging-with-public-sector-leaders/
CATEGORIES:Learning Meeting
END:VEVENT
BEGIN:VEVENT
DTSTART;TZID=America/Los_Angeles:20221214T100000
DTEND;TZID=America/Los_Angeles:20221214T120000
DTSTAMP:20260419T064330
CREATED:20230918T215831Z
LAST-MODIFIED:20230919T165634Z
UID:1987-1671012000-1671019200@www.iefunders.org
SUMMARY:Year in Review
DESCRIPTION:Theme/focus: Year in Review \nLocation: Hybrid: Zoom + Youth Mentoring Action Network \nModerator: Max\, Lina \nMember Spotlight: N/A \nRSVPs: Unknown \nAttendance: 11 online\, _ In person
URL:https://www.iefunders.org/event/year-in-review/
END:VEVENT
BEGIN:VEVENT
DTSTART;TZID=America/Los_Angeles:20221012T100000
DTEND;TZID=America/Los_Angeles:20221012T120000
DTSTAMP:20260419T064330
CREATED:20230918T215405Z
LAST-MODIFIED:20230919T165623Z
UID:1986-1665568800-1665576000@www.iefunders.org
SUMMARY:Advancing the IE through Public Policy
DESCRIPTION:Theme/focus: Public Policy \nLocation: Hybrid: Zoom + IEHP Foundation \nModerator: Margarita \nGuests: Julian Cuevas (Inland Empire Community Foundation)\, Sky Allen (Inland Empowerment)\, Suzie Gomez (Inland Empire Community Collaborative)\n \nMember Spotlight: IEHP Foundation\, Angel Baltazar \nRSVPs: Unknown \nAttendance: Unknown
URL:https://www.iefunders.org/event/advancing-the-ie-through-public-policy/
END:VEVENT
BEGIN:VEVENT
DTSTART;TZID=America/Los_Angeles:20220810T100000
DTEND;TZID=America/Los_Angeles:20220810T120000
DTSTAMP:20260419T064330
CREATED:20230918T215242Z
LAST-MODIFIED:20230919T165614Z
UID:1985-1660125600-1660132800@www.iefunders.org
SUMMARY:Racial Equity in Grantmaking: Deepening Our Practice of Equity
DESCRIPTION:Theme/focus: Equity \nLocation: Hybrid: Zoom + The Cheech \nModerator: Anita & Denisha \nMember Spotlight: N/A \nRSVPs: 20 \nAttendance: 15
URL:https://www.iefunders.org/event/racial-equity-in-grantmaking-deepening-our-practice-of-equity/
END:VEVENT
BEGIN:VEVENT
DTSTART;TZID=America/Los_Angeles:20220608T100000
DTEND;TZID=America/Los_Angeles:20220608T120000
DTSTAMP:20260419T064330
CREATED:20230918T214943Z
LAST-MODIFIED:20230919T164018Z
UID:1984-1654682400-1654689600@www.iefunders.org
SUMMARY:Healing Justice + Sensemaking on the New Normal
DESCRIPTION:Theme/focus: Healing Justice \nLocation: Hybrid: Zoom + San Manuel Commons\, San Manuel Band of Mission Indians \nModerator: Margarita \nGuests: Torie Weiston-Serdan\, Youth Mentoring Action Network Jesus Sanchez\, Gente Organizada Jean Kayano\, The People’s Collective for Environmental Justice \nMember Spotlight: N/A \nRSVPs: 20 \nAttendance: Unknown
URL:https://www.iefunders.org/event/healing-justice-sensemaking-on-the-new-normal/
END:VEVENT
BEGIN:VEVENT
DTSTART;TZID=America/Los_Angeles:20220413T100000
DTEND;TZID=America/Los_Angeles:20220413T120000
DTSTAMP:20260419T064330
CREATED:20230918T214610Z
LAST-MODIFIED:20230919T163848Z
UID:1983-1649844000-1649851200@www.iefunders.org
SUMMARY:Integrating IDEA (Inclusion\, Diversity\, Equity\, Anti-racist) Practices and Culture into Our Funding Institutions
DESCRIPTION:Theme/focus: IDEA \nLocation: Virtual (Zoom) \nModerator: Lina Paredes \nGuests: Icela Pelayo and Andrew Brower\, Program Officers\, The W.K. Kellogg Foundation \nMember Spotlight: N/A \nRSVPs: N/A \nAttendance: 26 total
URL:https://www.iefunders.org/event/integrating-idea-inclusion-diversity-equity-anti-racist-practices-and-culture-into-our-funding-institutions/
END:VEVENT
END:VCALENDAR