BEGIN:VCALENDAR
VERSION:2.0
PRODID:-//IE FUNDERS ALLIANCE - ECPv6.15.20//NONSGML v1.0//EN
CALSCALE:GREGORIAN
METHOD:PUBLISH
X-WR-CALNAME:IE FUNDERS ALLIANCE
X-ORIGINAL-URL:https://www.iefunders.org
X-WR-CALDESC:Events for IE FUNDERS ALLIANCE
REFRESH-INTERVAL;VALUE=DURATION:PT1H
X-Robots-Tag:noindex
X-PUBLISHED-TTL:PT1H
BEGIN:VTIMEZONE
TZID:America/Los_Angeles
BEGIN:DAYLIGHT
TZOFFSETFROM:-0800
TZOFFSETTO:-0700
TZNAME:PDT
DTSTART:20210314T100000
END:DAYLIGHT
BEGIN:STANDARD
TZOFFSETFROM:-0700
TZOFFSETTO:-0800
TZNAME:PST
DTSTART:20211107T090000
END:STANDARD
BEGIN:DAYLIGHT
TZOFFSETFROM:-0800
TZOFFSETTO:-0700
TZNAME:PDT
DTSTART:20220313T100000
END:DAYLIGHT
BEGIN:STANDARD
TZOFFSETFROM:-0700
TZOFFSETTO:-0800
TZNAME:PST
DTSTART:20221106T090000
END:STANDARD
BEGIN:DAYLIGHT
TZOFFSETFROM:-0800
TZOFFSETTO:-0700
TZNAME:PDT
DTSTART:20230312T100000
END:DAYLIGHT
BEGIN:STANDARD
TZOFFSETFROM:-0700
TZOFFSETTO:-0800
TZNAME:PST
DTSTART:20231105T090000
END:STANDARD
END:VTIMEZONE
BEGIN:VEVENT
DTSTART;TZID=America/Los_Angeles:20220810T100000
DTEND;TZID=America/Los_Angeles:20220810T120000
DTSTAMP:20260421T043100
CREATED:20230918T215242Z
LAST-MODIFIED:20230919T165614Z
UID:1985-1660125600-1660132800@www.iefunders.org
SUMMARY:Racial Equity in Grantmaking: Deepening Our Practice of Equity
DESCRIPTION:Theme/focus: Equity \nLocation: Hybrid: Zoom + The Cheech \nModerator: Anita & Denisha \nMember Spotlight: N/A \nRSVPs: 20 \nAttendance: 15
URL:https://www.iefunders.org/event/racial-equity-in-grantmaking-deepening-our-practice-of-equity/
END:VEVENT
BEGIN:VEVENT
DTSTART;TZID=America/Los_Angeles:20220608T100000
DTEND;TZID=America/Los_Angeles:20220608T120000
DTSTAMP:20260421T043100
CREATED:20230918T214943Z
LAST-MODIFIED:20230919T164018Z
UID:1984-1654682400-1654689600@www.iefunders.org
SUMMARY:Healing Justice + Sensemaking on the New Normal
DESCRIPTION:Theme/focus: Healing Justice \nLocation: Hybrid: Zoom + San Manuel Commons\, San Manuel Band of Mission Indians \nModerator: Margarita \nGuests: Torie Weiston-Serdan\, Youth Mentoring Action Network Jesus Sanchez\, Gente Organizada Jean Kayano\, The People’s Collective for Environmental Justice \nMember Spotlight: N/A \nRSVPs: 20 \nAttendance: Unknown
URL:https://www.iefunders.org/event/healing-justice-sensemaking-on-the-new-normal/
END:VEVENT
BEGIN:VEVENT
DTSTART;TZID=America/Los_Angeles:20220413T100000
DTEND;TZID=America/Los_Angeles:20220413T120000
DTSTAMP:20260421T043100
CREATED:20230918T214610Z
LAST-MODIFIED:20230919T163848Z
UID:1983-1649844000-1649851200@www.iefunders.org
SUMMARY:Integrating IDEA (Inclusion\, Diversity\, Equity\, Anti-racist) Practices and Culture into Our Funding Institutions
DESCRIPTION:Theme/focus: IDEA \nLocation: Virtual (Zoom) \nModerator: Lina Paredes \nGuests: Icela Pelayo and Andrew Brower\, Program Officers\, The W.K. Kellogg Foundation \nMember Spotlight: N/A \nRSVPs: N/A \nAttendance: 26 total
URL:https://www.iefunders.org/event/integrating-idea-inclusion-diversity-equity-anti-racist-practices-and-culture-into-our-funding-institutions/
END:VEVENT
END:VCALENDAR